BEGIN:VCALENDAR
VERSION:2.0
PRODID:-//Green Drinks DC - ECPv6.15.20//NONSGML v1.0//EN
CALSCALE:GREGORIAN
METHOD:PUBLISH
X-WR-CALNAME:Green Drinks DC
X-ORIGINAL-URL:https://www.greendrinksdc.org
X-WR-CALDESC:Events for Green Drinks DC
REFRESH-INTERVAL;VALUE=DURATION:PT1H
X-Robots-Tag:noindex
X-PUBLISHED-TTL:PT1H
BEGIN:VTIMEZONE
TZID:America/New_York
BEGIN:DAYLIGHT
TZOFFSETFROM:-0500
TZOFFSETTO:-0400
TZNAME:EDT
DTSTART:20170312T070000
END:DAYLIGHT
BEGIN:STANDARD
TZOFFSETFROM:-0400
TZOFFSETTO:-0500
TZNAME:EST
DTSTART:20171105T060000
END:STANDARD
BEGIN:DAYLIGHT
TZOFFSETFROM:-0500
TZOFFSETTO:-0400
TZNAME:EDT
DTSTART:20180311T070000
END:DAYLIGHT
BEGIN:STANDARD
TZOFFSETFROM:-0400
TZOFFSETTO:-0500
TZNAME:EST
DTSTART:20181104T060000
END:STANDARD
BEGIN:DAYLIGHT
TZOFFSETFROM:-0500
TZOFFSETTO:-0400
TZNAME:EDT
DTSTART:20190310T070000
END:DAYLIGHT
BEGIN:STANDARD
TZOFFSETFROM:-0400
TZOFFSETTO:-0500
TZNAME:EST
DTSTART:20191103T060000
END:STANDARD
BEGIN:DAYLIGHT
TZOFFSETFROM:-0500
TZOFFSETTO:-0400
TZNAME:EDT
DTSTART:20200308T070000
END:DAYLIGHT
BEGIN:STANDARD
TZOFFSETFROM:-0400
TZOFFSETTO:-0500
TZNAME:EST
DTSTART:20201101T060000
END:STANDARD
END:VTIMEZONE
BEGIN:VEVENT
DTSTART;TZID=America/New_York:20190611T180000
DTEND;TZID=America/New_York:20190611T200000
DTSTAMP:20260424T005719
CREATED:20190529T042433Z
LAST-MODIFIED:20190529T042636Z
UID:851-1560276000-1560283200@www.greendrinksdc.org
SUMMARY:Happy Hour at Sudhouse
DESCRIPTION:Join us for a summer happy hour at Sudhouse DC on June 11! Bring your friends to this evening of networking\, drinks\, and summer vibes. \nThis event is free\, but be sure to register at the link below.
URL:https://www.greendrinksdc.org/event/happy-hour-at-sudhouse/
LOCATION:Sudhouse\, 1340 U St NW\, Washington\, 20009\, United States
END:VEVENT
BEGIN:VEVENT
DTSTART;TZID=America/New_York:20190522T180000
DTEND;TZID=America/New_York:20190522T200000
DTSTAMP:20260424T005719
CREATED:20190507T184133Z
LAST-MODIFIED:20190507T184133Z
UID:834-1558548000-1558555200@www.greendrinksdc.org
SUMMARY:Top Shelf - Fundraiser for Chesapeake Legal Alliance
DESCRIPTION:Green Drinks DC is hosting its inaugural Green Drinks DC: Top Shelf event to support the amazing work of the Chesapeake Legal Alliance. Spend your evening with us on Steptoe’s roof in Dupont Circle. Drinks and light food will be provided\, as well as a chance to talk with our exceptional partners: Chesapeake Legal Alliance\, Veterans Compost\, and Up Top Acres. \nJoin us in supporting the important work of the Chesapeake Legal Alliance\, and for an evening of unforgettable views\, stimulating conversation\, and delectable refreshments provided thanks to Seasons Culinary.
URL:https://www.greendrinksdc.org/event/top-shelf-fundraiser-for-chesapeake-legal-alliance/
LOCATION:Steptoe\, 1330 Connecticut Ave NW\, Washington\, DC\, 20036\, United States
END:VEVENT
BEGIN:VEVENT
DTSTART;TZID=America/New_York:20190521T183000
DTEND;TZID=America/New_York:20190521T183000
DTSTAMP:20260424T005719
CREATED:20190418T203655Z
LAST-MODIFIED:20190418T203655Z
UID:825-1558463400-1558463400@www.greendrinksdc.org
SUMMARY:Career Design 101: Build an Environmental Career You Love
DESCRIPTION:In this special edition workshop with Green Drinks DC and Mission Collaborative\, you’ll: \n\nLearn our proven Career Design Process so you can figure out exactly what you want next\nReceive actionable advice\, resources\, and connections to help you towards your career goals\nConnect with other environmentally minded professionals in an organic and helpful way\n\nThis workshop is perfect for you if: \n\nYou’re feeling bored\, stuck\, or unfulfilled in your current job\nYou want to be proactive about figuring out what comes next for your career\nYou enjoy meeting other environmental professionals in a more authentic way\n\nWe hope to meet you soon! \nQuestions? Reach out to grant@missioncollaborative.com and DCGreenDrinks@gmail.com
URL:https://www.greendrinksdc.org/event/career-design-101-build-an-environmental-career-you-love/
LOCATION:Make Offices at Logan Exchange\, 1509 16th Street NW\, Washington\, DC\, 20009\, United States
END:VEVENT
BEGIN:VEVENT
DTSTART;TZID=America/New_York:20190508T180000
DTEND;TZID=America/New_York:20190508T200000
DTSTAMP:20260424T005719
CREATED:20190415T205638Z
LAST-MODIFIED:20190418T204038Z
UID:805-1557338400-1557345600@www.greendrinksdc.org
SUMMARY:Happy Hour with DC EcoWomen
DESCRIPTION:We are big fans of DC EcoWomen at Green Drinks DC and we are so excited to put our powers together for this awesome happy hour! Join us for an evening of connection\, cocktails\, and cheerful company. All are welcome!
URL:https://www.greendrinksdc.org/event/happy-hour-with-dc-ecowomen/
LOCATION:One Eight Distilling\, 1135 Okie Street NE\, Washington\, DC\, 20002\, United States
END:VEVENT
BEGIN:VEVENT
DTSTART;TZID=America/New_York:20190501T173000
DTEND;TZID=America/New_York:20190501T230000
DTSTAMP:20260424T005719
CREATED:20190417T223137Z
LAST-MODIFIED:20190417T223137Z
UID:815-1556731800-1556751600@www.greendrinksdc.org
SUMMARY:Green Night at Nationals Park and Happy Hour!
DESCRIPTION:This is going to be a home run\, Green Drinkers. \nWe at Green Drinks DC have partnered with Agricity\, the creators of Compost Cab\, to host the first ever Green Night at Nats Park! Green Drinks DC has origanized a happy hour for all our ticket holders. We will start before the game\, as soon as Nats Park opens at 5:30 PM\, and we will meet at the Budweiser Terrace. \nWe have purchased bulk tickets and have two ticket options available: $20 for only the ticket or $35 for the ticket and a T-shirt. Buy them now as space is limited! \nA TICKET TO THIS EVENTBRITE IS NOT A TICKET TO THE GAME! In order to join us for the happy hour\, you will need to purchase a ticket to the game here. \nThis Eventbrite exists to promote our event\, all tickets need to be purchased through the National’s website. Again\, you can do get your tickets to the game (definitely get the shirt!) here.
URL:https://www.greendrinksdc.org/event/green-night-at-nationals-park-and-happy-hour/
LOCATION:Nationals Park\, 1500 S Capitol St SE\, Washington\, DC\, 20003\, United States
END:VEVENT
BEGIN:VEVENT
DTSTART;TZID=America/New_York:20190425T193000
DTEND;TZID=America/New_York:20190425T210000
DTSTAMP:20260424T005719
CREATED:20190328T235633Z
LAST-MODIFIED:20190329T035157Z
UID:795-1556220600-1556226000@www.greendrinksdc.org
SUMMARY:2nd Annual Super Spectacular Comedy Show For the Planet
DESCRIPTION:Join us for a stand-up show hosted by Green Drinks DC and Grassroots Comedy DC — it’s going to be hilarious! \nWe’ve got a great line-up of comics and the drinks flow freely at the DC Comedy Loft and Bier Baron Tavern near Dupont Circle. So grab an environmentally-friendly buddy\, jump in a Tesla (or on a bike or use your feet)\, and meet us for all the laughs at the 2nd Annual Super Spectacular Comedy Show for the Planet! \nGet your tickets here.
URL:https://www.greendrinksdc.org/event/2nd-annual-super-spectacular-comedy-show-for-the-planet/
LOCATION:The Bier Baron Tavern\, 1523 22nd Street Northwest\, Washington\, DC 20037\, Washington\, DC\, 20037\, US
END:VEVENT
BEGIN:VEVENT
DTSTART;TZID=America/New_York:20190417T180000
DTEND;TZID=America/New_York:20190417T200000
DTSTAMP:20260424T005719
CREATED:20190328T235156Z
LAST-MODIFIED:20190328T235156Z
UID:791-1555524000-1555531200@www.greendrinksdc.org
SUMMARY:Green Drinks DC April Happy Hour!
DESCRIPTION:It is spring time and Green Drinks DC is hosting a happy hour! We have partnered with Lou’s City Bar\, right off the Columbia Heights Metro Station\, for an evening of cheap drinks\, great company\, and the best environmental networking in town. Join us and bring your friends\, all are welcome. \nReserve your free spot here.
URL:https://www.greendrinksdc.org/event/green-drinks-dc-april-happy-hour/
LOCATION:Lou’s City Bar\, 1400 Irving St NW\, Washington\, 20010\, United States
END:VEVENT
BEGIN:VEVENT
DTSTART;TZID=America/New_York:20190417T080000
DTEND;TZID=America/New_York:20190417T170000
DTSTAMP:20260424T005719
CREATED:20190418T014824Z
LAST-MODIFIED:20190418T014824Z
UID:821-1555488000-1555520400@www.greendrinksdc.org
SUMMARY:Green Drinks DC Networking Workshop
DESCRIPTION:Have you ever skipped a cool event because you didn’t have anyone to go with? \nDoes striking up a conversation with a stranger feel daunting? \nSocial anxiety can hold us back from making new friends\, advancing professionally\, and living our best life. It’s something everyone experiences from time to time\, but with a handful of tools at your disposal\, you can conquer it. \nOver the last 10 years\, Green Drink DC co-founder Spencer Schecht has come a long way on his own journey toward overcoming social anxiety. In this workshop\, Spencer offers an arsenal of strategies for thriving in all kinds of social situations. From crafting the perfect elevator pitch to identifying character assets that make you awesome\, Spencer helps participants build confidence and treat social situations as an opportunity for growth. \nIn this workshop\, we will: \n\nDive into what triggers social anxiety\nIdentify strategies for using fear as a copilot – “feel the fear and do it anyway”\nPractice networking and story sharing with other participants\nDevelop actionable steps for social success following the workshop\n\nYour ticket also includes an optional 20-minute one-on-one session with Spencer after the training to follow up on your personal obstacles and tailor your path forward. \nLet’s beat social anxiety together! \nFind Spencer on LinkedIn here.
URL:https://www.greendrinksdc.org/event/green-drinks-dc-networking-workshop/
LOCATION:SEPA Offices\, 1220 19th St NW\, Washington\, DC\, 20036\, United States
END:VEVENT
BEGIN:VEVENT
DTSTART;TZID=America/New_York:20190409T183000
DTEND;TZID=America/New_York:20190409T203000
DTSTAMP:20260424T005719
CREATED:20190328T214811Z
LAST-MODIFIED:20190328T215132Z
UID:777-1554834600-1554841800@www.greendrinksdc.org
SUMMARY:Workshop - Career Design 101: Build an Environmental Career You Love
DESCRIPTION:Green Drinks DC is partnering with Mission Collaborative for this special edition workshop. \n  \nJoin us and you’ll: \n\n\n\n\n\nLearn our proven Career Design Process so you can figure out exactly what you want next\nReceive actionable advice\, resources\, and connections to help you towards your career goals\nConnect with other environmentally minded professionals in an organic and helpful way\n\n\n\n\n\nThis workshop is perfect for you if: \n\n\n\n\n\nYou’re feeling bored\, stuck\, or unfulfilled in your current job\nYou want to be proactive about figuring out what comes next for your career\nYou enjoy meeting other environmental professionals in a more authentic way\n\n\n\n\n\nWe hope to see you there! Click here to buy tickets. \nAbout the partner: \nMission Collaborative has been helping DC professionals design careers they actually love for over two years.
URL:https://www.greendrinksdc.org/event/workshop-career-design-101-build-an-environmental-career-you-love/
LOCATION:Make Offices at Logan Exchange\, 1509 16th Street NW\, Washington\, DC\, 20009\, United States
END:VEVENT
BEGIN:VEVENT
DTSTART;TZID=America/New_York:20190328T180000
DTEND;TZID=America/New_York:20190328T200000
DTSTAMP:20260424T005719
CREATED:20190227T232134Z
LAST-MODIFIED:20190306T040502Z
UID:771-1553796000-1553803200@www.greendrinksdc.org
SUMMARY:Green Drinks DC Happy Hour with 730DC
DESCRIPTION:Green Drinks DC is hosting an epic spring happy hour with 730DC! We have rented out one of the biggest spaces we could find: Decades in Dupont Circle. Join us and DC’s hottest daily newsletter for a chance to network with environmentally minded people across Washington\, DC. Don’t miss this event!
URL:https://www.greendrinksdc.org/event/green-drinks-dc-happy-hour-with-730dc/
LOCATION:Decades DC\, 1219 Connecticut Ave NW\, Washington\, DC\, 20036\, United States
END:VEVENT
BEGIN:VEVENT
DTSTART;TZID=America/New_York:20190312T193000
DTEND;TZID=America/New_York:20190312T210000
DTSTAMP:20260424T005719
CREATED:20190227T231243Z
LAST-MODIFIED:20190227T231517Z
UID:765-1552419000-1552424400@www.greendrinksdc.org
SUMMARY:Green Drinks DC Happy Hour with Envirorun
DESCRIPTION:Green Drinks DC is excited to partner with Envirorun DC for another awesome spring time event. To find out more about the running and speaker portions of the event\, please check out Envirorun DC’s page here. Regardless of if you can make it to the speaker or the run\, join us for an awesome happy hour at one of DC’s coolest new bars: Prequel! We have drink specials and a private space for us\, so come join us after work.
URL:https://www.greendrinksdc.org/event/765/
LOCATION:Prequel\, 919 19th St NW\, Washington\, DC\, 20006\, United States
END:VEVENT
BEGIN:VEVENT
DTSTART;TZID=America/New_York:20190306T180000
DTEND;TZID=America/New_York:20190306T193000
DTSTAMP:20260424T005719
CREATED:20190210T185914Z
LAST-MODIFIED:20190210T185914Z
UID:760-1551895200-1551900600@www.greendrinksdc.org
SUMMARY:Workshop - Conquer Social Anxiety
DESCRIPTION:
URL:https://www.greendrinksdc.org/event/workshop-conquer-social-anxiety/
LOCATION:1220 19th St NW
END:VEVENT
BEGIN:VEVENT
DTSTART;TZID=America/New_York:20190227T180000
DTEND;TZID=America/New_York:20190227T200000
DTSTAMP:20260424T005719
CREATED:20190210T174911Z
LAST-MODIFIED:20190210T174911Z
UID:756-1551290400-1551297600@www.greendrinksdc.org
SUMMARY:Green Drinks DC Happy Hour with Our Energy Policy
DESCRIPTION:
URL:https://www.greendrinksdc.org/event/green-drinks-dc-happy-hour-with-our-energy-policy/
LOCATION:Capitol Lounge\, 229 Pennsylvania Ave SE\, Washington\, DC\, 20003
END:VEVENT
BEGIN:VEVENT
DTSTART;TZID=America/New_York:20190212T180000
DTEND;TZID=America/New_York:20190212T200000
DTSTAMP:20260424T005719
CREATED:20190210T173229Z
LAST-MODIFIED:20190210T173229Z
UID:751-1549994400-1550001600@www.greendrinksdc.org
SUMMARY:Green Drinks DC Grad School Soirée!
DESCRIPTION:
URL:https://www.greendrinksdc.org/event/green-drinks-dc-grad-school-soiree/
LOCATION:Eighteenth Street Lounge\, 1212 18th St NW\, Washington\, DC 20036\, Washington\, DC\, 20036\, US
END:VEVENT
BEGIN:VEVENT
DTSTART;TZID=America/New_York:20190205T180000
DTEND;TZID=America/New_York:20190205T200000
DTSTAMP:20260424T005719
CREATED:20181222T233746Z
LAST-MODIFIED:20181222T234321Z
UID:727-1549389600-1549396800@www.greendrinksdc.org
SUMMARY:Green Drinks DC Happy Hour with Blue Crate Oat Milk
DESCRIPTION:  \nAt Green Drinks DC we love to support individuals who are working to protect our environment and Blue Crate Oat Milk is doing exactly that. Born out of the zero waste movement\, the two founders are inspiring social entrepreneurs. Join us and Blue Crate’s founders for an evening of networking at Timber Pizza Company! \nWe will have free pizza (while supplies last) as well as specialty cocktails made from Blue Cate’s oat milk that are so delicious it will blow you away. We at Green Drinks DC got a sneak peak and they are SO good. Come support Blue Crate\, make new friends and professional contacts\, and enjoy some delicious pizza and oat milk cocktails. \nRegister now!
URL:https://www.greendrinksdc.org/event/green-drinks-dc-happy-hour-with-blue-crate-oat-milk/
LOCATION:Timber Pizza Company\, 809 Upshur St NW\, Washington\, DC\, 20011\, United States
END:VEVENT
BEGIN:VEVENT
DTSTART;TZID=America/New_York:20190115T200000
DTEND;TZID=America/New_York:20190115T220000
DTSTAMP:20260424T005719
CREATED:20181218T225649Z
LAST-MODIFIED:20181218T225649Z
UID:738-1547582400-1547589600@www.greendrinksdc.org
SUMMARY:Science Trivia Night with Green Drinks DC
DESCRIPTION:Gather your crew and join us Every Tuesday at 8 PM for Science Trivia! Test your science knowledge with trivia and engineering. Play for prizes and glory! \n$16 Sweetwater 420 Extra Pale Ale pitchers during trivia! \nFind out more!
URL:https://www.greendrinksdc.org/event/science-trivia-night-with-green-drinks-dc/
LOCATION:The Big Board\, 421 H St NE\, Washington\, DC\, 20002\, United States
END:VEVENT
BEGIN:VEVENT
DTSTART;TZID=America/New_York:20190110T180000
DTEND;TZID=America/New_York:20190110T200000
DTSTAMP:20260424T005719
CREATED:20181222T233820Z
LAST-MODIFIED:20181222T234142Z
UID:735-1547143200-1547150400@www.greendrinksdc.org
SUMMARY:Green Drinks DC Happy Hour with The Aspen Institute
DESCRIPTION:Green Drinks DC has teamed up with The Aspen Institute and their partners for our first happy hour of 2019! Come see the Aspen Institute’s beautiful space\, enjoy free light appetizers (while supplies last)\, and a cash bar. The event is free and open to all who care about the environment. Bring your friends for an evening of networking and socializing. \nRegister now!
URL:https://www.greendrinksdc.org/event/green-drinks-dc-happy-hour-with-the-aspen-institute/
LOCATION:The Aspen Institute\, 2300 N St NW. Suite #700\, Washington\, DC\, 20037\, United States
END:VEVENT
BEGIN:VEVENT
DTSTART;TZID=America/New_York:20181206T180000
DTEND;TZID=America/New_York:20181206T203000
DTSTAMP:20260424T005719
CREATED:20181128T035738Z
LAST-MODIFIED:20181128T035738Z
UID:718-1544119200-1544128200@www.greendrinksdc.org
SUMMARY:DC Net Impact Holiday Party
DESCRIPTION:
URL:https://www.greendrinksdc.org/event/dc-net-impact-holiday-party/
LOCATION:Mission Navy Yard\, 1221 Van Street Southeast\, Washington\, 20003\, United States
END:VEVENT
BEGIN:VEVENT
DTSTART;TZID=America/New_York:20181119T180000
DTEND;TZID=America/New_York:20181119T200000
DTSTAMP:20260424T005719
CREATED:20181016T013801Z
LAST-MODIFIED:20181016T013801Z
UID:706-1542650400-1542657600@www.greendrinksdc.org
SUMMARY:Green Drinks DC Happy Hour with Shop Made DC
DESCRIPTION:At Green Drinks DC we love this city and all the amazing people who live and work in it. Our city is more than politicians and lobbyists\, it is full of artists\, musicians\, chefs\, and creative individuals. Shop Made in DC was created to highlight these talented people and we are so excited to partner with them! Come join us for drinks and a chance to make some new friends\, all while perusing local products. That sounds like a perfect evening to me. \nJoin us!
URL:https://www.greendrinksdc.org/event/green-drinks-dc-happy-hour-with-shop-made-dc/
LOCATION:Shop Made in DC\, 1330 19th St NW\, Washington\, DC\, 20036\, United States
END:VEVENT
BEGIN:VEVENT
DTSTART;TZID=America/New_York:20181114T180000
DTEND;TZID=America/New_York:20181114T200000
DTSTAMP:20260424T005719
CREATED:20181016T005846Z
LAST-MODIFIED:20181016T005846Z
UID:700-1542218400-1542225600@www.greendrinksdc.org
SUMMARY:Green Drinks DC + Welcome2DC Happy Hour!
DESCRIPTION:Green Drinks DC is partnering with Welcome2DC for the prefect happy hour and networking evening. Whether you are new to DC or have lived here your whole life\, come make some new friends and professional contacts at Bar Roubaix. Oh\, and did I mention that we are offering $5 drafts all night!? \nCome join us\, all are welcome!
URL:https://www.greendrinksdc.org/event/green-drinks-dc-welcome2dc-happy-hour/
LOCATION:Bar Roubaix\, 1400 Irving Street Northwest\, Washington\, DC\, 20010\, United States
END:VEVENT
BEGIN:VEVENT
DTSTART;TZID=America/New_York:20181108T190000
DTEND;TZID=America/New_York:20181108T213000
DTSTAMP:20260424T005719
CREATED:20181105T171550Z
LAST-MODIFIED:20181106T154028Z
UID:713-1541703600-1541712600@www.greendrinksdc.org
SUMMARY:[Sponsored] The Chocolate Case – Film screening @ the Dutch Embassy
DESCRIPTION:
URL:https://www.greendrinksdc.org/event/sponsored-the-chocolate-case-film-screening-the-dutch-embassy/
LOCATION:Embassy of the Kingdom of the Netherlands\, 4200 Linnean Ave NW\, Washington\, DC\, 20008
END:VEVENT
BEGIN:VEVENT
DTSTART;TZID=America/New_York:20181017T180000
DTEND;TZID=America/New_York:20181017T200000
DTSTAMP:20260424T005719
CREATED:20180925T122340Z
LAST-MODIFIED:20181004T014337Z
UID:674-1539799200-1539806400@www.greendrinksdc.org
SUMMARY:Happy Hour in Cooperation w/ Clean Energy & Technology Staff Association
DESCRIPTION:Green Drinks DC’s October happy hour is hosted in cooperation with The Clean Energy & Technology Staff Association. Come meet fellow environmentally minded individuals from the Capitol Hill\, non-profits\, academia\, and everywhere in between. All are welcome and we look forward to seeing you there! \nGet your tickets here!
URL:https://www.greendrinksdc.org/event/happy-hour-in-cooperation-w-clean-energy-technology-staff-association/
LOCATION:Stanton and Greene\, 319 Pennsylvania Avenue Southeast\, Washington\, DC\, 20003\, United States
END:VEVENT
BEGIN:VEVENT
DTSTART;TZID=America/New_York:20181005T080000
DTEND;TZID=America/New_York:20181008T170000
DTSTAMP:20260424T005719
CREATED:20180822T015326Z
LAST-MODIFIED:20180823T163550Z
UID:661-1538726400-1539018000@www.greendrinksdc.org
SUMMARY:[Sponsored] Greenermind Summit
DESCRIPTION:
URL:https://www.greendrinksdc.org/event/sponsored-greenermind-summit/
LOCATION:Camp Varsity\, 344 Beamers Head Rd.\, Madison\, VA\, 22727\, United States
END:VEVENT
BEGIN:VEVENT
DTSTART;TZID=America/New_York:20180912T180000
DTEND;TZID=America/New_York:20180912T203000
DTSTAMP:20260424T005719
CREATED:20180822T015930Z
LAST-MODIFIED:20180822T020013Z
UID:666-1536775200-1536784200@www.greendrinksdc.org
SUMMARY:Rooftop Soiree at The Watergate with Ipsun Power
DESCRIPTION:
URL:https://www.greendrinksdc.org/event/rooftop-soiree-at-the-watergate-with-ipsun-power/
LOCATION:Watergate\, 600 New Hampshire Ave NW\, Washington\, DC\, 20037\, United States
END:VEVENT
BEGIN:VEVENT
DTSTART;TZID=America/New_York:20180827T180000
DTEND;TZID=America/New_York:20180827T203000
DTSTAMP:20260424T005719
CREATED:20180807T220736Z
LAST-MODIFIED:20180810T163302Z
UID:623-1535392800-1535401800@www.greendrinksdc.org
SUMMARY:Green Drinks DC Presents: Beyond the Business Card
DESCRIPTION:In a world of stuffy and superficial networking events\, this is the antidote. Green Drinks DC and Greenermind invite you to bring your professional and personal selves for an evening unconventional intermingling\, crowd-sourced idea generation\, and “structured fun.” \nOur clever volunteer crew will lightly facilitate the evening to help you branch out from the old “what do you do?” question\, make some new pals\, and maybe even learn something new. So\, grab a barrel-aged cocktail and come ready to share your ideas\, stories\, and laughs.
URL:https://www.greendrinksdc.org/event/networking-beyond-the-business-card/
LOCATION:Prequel\, 919 19th St NW\, Washington\, DC\, 20006\, United States
END:VEVENT
BEGIN:VEVENT
DTSTART;TZID=America/New_York:20180816T123000
DTEND;TZID=America/New_York:20180816T133000
DTSTAMP:20260424T005719
CREATED:20180809T010459Z
LAST-MODIFIED:20180809T010708Z
UID:645-1534422600-1534426200@www.greendrinksdc.org
SUMMARY:Green Drinks DC Workshop: Fear is Your Copilot: Networking in Washington DC
DESCRIPTION:Come learn from Green Drinks DC’s Spencer Schecht in our first ever networking workshop! Learn how to make the most of Washington\, DC’s amazing events. \nCost:  $40 after August 9 or $50 walk-in \nRegister Here
URL:https://www.greendrinksdc.org/event/green-drinks-dc-workshop-fear-is-your-copilot-networking-in-washington-dc/
LOCATION:Washington Metropolitan Council of Governments\, 777 North Capitol Street NE\, Washington\, DC\, 20002\, United States
END:VEVENT
BEGIN:VEVENT
DTSTART;TZID=America/New_York:20180814T180000
DTEND;TZID=America/New_York:20180814T200000
DTSTAMP:20260424T005719
CREATED:20180514T195137Z
LAST-MODIFIED:20180514T195137Z
UID:572-1534269600-1534276800@www.greendrinksdc.org
SUMMARY:Green Drinks DC at Up Top Acres
DESCRIPTION:Join Green Drinks DC for a rooftop happy hour at Up Top Acres. Take in the spectacular views\, have a drink or two\, and meet fellow environmental enthusiasts. \nSpecial thanks to our friends at Up Top Acres for hosting us.
URL:https://www.greendrinksdc.org/event/green-drinks-dc-at-up-top-acres/
LOCATION:Up Top Acres\, 55 M Street Southeast\, Washington\, DC\, 20003\, United States
END:VEVENT
BEGIN:VEVENT
DTSTART;TZID=America/New_York:20180719T180000
DTEND;TZID=America/New_York:20180719T210000
DTSTAMP:20260424T005719
CREATED:20180621T170643Z
LAST-MODIFIED:20180621T180841Z
UID:598-1532023200-1532034000@www.greendrinksdc.org
SUMMARY:USGBC NCR's A Midsummer Night's Green
DESCRIPTION:Toast the best of the best in local green building at the 17th annual Midsummer Night’s Green\, hosted by USGBC National Capital Region. \nThis event is the premier\, summer social event for the D.C. metro area’s green building community\, offering networking\, delicious hors d’oeuvres and an open bar. \nUse the promo code GreenDrinks@MSNG for discounted registration pricing.
URL:https://www.greendrinksdc.org/event/usgbc-ncrs-a-midsummer-nights-green/
END:VEVENT
BEGIN:VEVENT
DTSTART;TZID=America/New_York:20180710T180000
DTEND;TZID=America/New_York:20180710T210000
DTSTAMP:20260424T005719
CREATED:20180612T213936Z
LAST-MODIFIED:20180612T214006Z
UID:592-1531245600-1531256400@www.greendrinksdc.org
SUMMARY:Run\, Listen\, Drink: Speaker Series & Happy Hour with Envirorun
DESCRIPTION:Join us and our friends from Envirorun DC for a run and happy hour on July 10!\nWe hope you’ll join us for some fresh air\, cold drinks\, and a chance to connect with environmental colleagues. Feel free to join us for the whole evening or just for happy hour! \nThe evening’s agenda: \n6:00-7:00 pm: Meet at WeWork and go for a run\n7:00-8:00 pm: Return to WeWork to hear from Greg Gershuny\, Managing Director of The Aspen Institute’s Energy and Environment Program\n8:00-9:00 pm: Happy hour right around the corner at Elephant & Castle (900 19th St NW) \nWe hope to see you there!
URL:https://www.greendrinksdc.org/event/run-listen-drink-speaker-series-happy-hour-with-envirorun/
END:VEVENT
BEGIN:VEVENT
DTSTART;TZID=America/New_York:20180620T180000
DTEND;TZID=America/New_York:20180620T200000
DTSTAMP:20260424T005719
CREATED:20180607T204636Z
LAST-MODIFIED:20180607T204636Z
UID:588-1529517600-1529524800@www.greendrinksdc.org
SUMMARY:A Toast to Transit: Panel Discussion and Happy Hour
DESCRIPTION:Join Green Drinks DC and Getaround for a transportation panel discussion and happy hour.
URL:https://www.greendrinksdc.org/event/a-toast-to-transit-panel-discussion-and-happy-hour/
END:VEVENT
END:VCALENDAR